BEGIN:VCALENDAR
VERSION:2.0
PRODID:-//wp-events-plugin.com//7.2.3.1//EN
TZID:Europe/Berlin
X-WR-TIMEZONE:Europe/Berlin
BEGIN:VEVENT
UID:23@kuhlundengel.de
DTSTART;TZID=Europe/Berlin:20240611T180000
DTEND;TZID=Europe/Berlin:20240611T190000
DTSTAMP:20240523T113817Z
URL:https://kuhlundengel.de/events/infoabend/
SUMMARY:Infoabend
DESCRIPTION:Bereit für deine Berufung? Ja! Aber wie?  Unser Anspruch ist 
 es\, mit dir deine langfristige und nachhaltige berufliche Ausrichtung zu 
 finden - für eine inspirierende Zukunft. Gemeinsam planen wir dann die Sc
 hritte in deinen Traumjob und finden Hürden und Begrenzungen\, die dich a
 ufhalten könnten\, damit du dich motiviert auf den Weg machen kannst. Ger
 ne erklären wir dir\, was dich dabei genau erwartet und wie wir arbeiten:
  Nutze diesen Infoabend um uns\, unsere Arbeit und unser Methoden kennenz
 ulernen.\n\nDieser kostenlose Online-Abend wird von Martina Engel-Fürstbe
 rger geleitet.\n\nDer Zoomlink wird dir nach Anmeldung zugeschickt.\n\n[co
 ntact-form-7 id="956" title="Anmeldung"]
ATTACH;FMTTYPE=image/jpeg:https://kuhlundengel.de/wp-content/uploads/2023/
 12/IMG_4814_web.jpg
CATEGORIES:weitere
LOCATION:http://kuhlundengel.de
END:VEVENT
BEGIN:VTIMEZONE
TZID:Europe/Berlin
X-LIC-LOCATION:Europe/Berlin
BEGIN:DAYLIGHT
DTSTART:20240331T030000
TZOFFSETFROM:+0100
TZOFFSETTO:+0200
TZNAME:CEST
END:DAYLIGHT
END:VTIMEZONE
END:VCALENDAR