BEGIN:VCALENDAR
VERSION:2.0
PRODID:-//wp-events-plugin.com//7.2.3.1//EN
TZID:Europe/Berlin
X-WR-TIMEZONE:Europe/Berlin
BEGIN:VEVENT
UID:13@kuhlundengel.de
DTSTART;TZID=Europe/Berlin:20240525T100000
DTEND;TZID=Europe/Berlin:20240526T180000
DTSTAMP:20240301T151823Z
URL:https://kuhlundengel.de/events/mit-passion-fuer-leben-und-beruf-25-26-
 05-24/
SUMMARY:Weiterbildung Job- und Karrierecoach:in // Modul 1: Passion und Ber
 uf
DESCRIPTION:In dieser zweitägigen Weiterbildung erlernst du verschiedene M
 ethoden\, mit denen du deinen Klient:innen eine beruflichen Orientierung e
 rmöglichen kannst und die für einen Coaching-Prozess zu beruflichen Them
 en und Umbruchssituationen unerlässlich sind.\n\nInhalte der Weiterbildun
 g:\n\n 	Inspirierende Zielsetzung für den Coachingprozess\n 	Verschiedene
  Tools zur Arbeit mit Werten\n 	Identifizierung von Fähigkeiten\n 	Erarbe
 itung eines persönlichen Mission Statements\n 	Ableitung inspirierender Z
 iele und nächster Schritte zur Strukturierung\n 	Abschluss von Coachingpr
 ozessen\n\nVertiefe deine Kompetenzen durch diese Tools\, um deine Klient:
 innen zu unterstützen:\n\n 	Eine sinnstiftende berufliche Ausrichtung zu 
 finden\n 	Intrinsische Motivation zu aktivieren\n 	Sich inspirierende Ziel
 e zu setzen\n 	Eigenen Ressourcen und Fähigkeiten wertzuschätzen\n 	Sich
  selbst besser zu verstehen\n 	Entscheidungen zu treffen\n 	Mehr Selbstwer
 t aufzubauen\n\nIm wertschätzenden Raum der Gruppe hast du die Möglichke
 it die Methoden in der Selbsterfahrung zu erleben und dadurch auch für di
 ch einen persönlichen Mehrwert zu bekommen und anschließend zu üben. In
  der Auswertung und dem Austausch auf Metaebene kannst du die Erfahrungen 
 für deine Arbeit mit Klient:innen transferieren.\n\nKosten: 490 Euro\n\nL
 eitung: Martina Engel-Fürstberger\n\nMartina ist zertifizierter Lehr- und
  Seniorcoach\, Heilpraktikerin für Psychotherapie HPG und Businesstrainer
 in. In mehr als 100 Coachingprozessen hat sie Menschen unterstützt\, ihr
 e persönliche Berufung zu finden und dieser zu folgen. Glück bedeutet 
 für sie eine Kombination aus Sinn\, Zugehörigkeit und Sicherheit und mit
  ihr finden Menschen den Weg dorthin. \n\n[contact-form-7 id="956" title
 ="Anmeldung"]
ATTACH;FMTTYPE=image/jpeg:https://kuhlundengel.de/wp-content/uploads/2023/
 03/3.png
CATEGORIES:module
LOCATION:Potsdam\, Gutenbergstr. 87\, Potsdam\, 14467\, Deutschland
X-APPLE-STRUCTURED-LOCATION;VALUE=URI;X-ADDRESS=Gutenbergstr. 87\, Potsdam\
 , 14467\, Deutschland;X-APPLE-RADIUS=100;X-TITLE=Potsdam:geo:0,0
END:VEVENT
BEGIN:VTIMEZONE
TZID:Europe/Berlin
X-LIC-LOCATION:Europe/Berlin
BEGIN:DAYLIGHT
DTSTART:20240331T030000
TZOFFSETFROM:+0100
TZOFFSETTO:+0200
TZNAME:CEST
END:DAYLIGHT
END:VTIMEZONE
END:VCALENDAR